BEGIN:VCALENDAR
VERSION:2.0
PRODID:-//wp-events-plugin.com//7.2.3.1//EN
TZID:Europe/Paris
X-WR-TIMEZONE:Europe/Paris
BEGIN:VEVENT
UID:65@michel-perrier.com
DTSTART;TZID=Europe/Paris;VALUE=DATE:20250716
DTEND;TZID=Europe/Paris;VALUE=DATE:20250801
DTSTAMP:20250523T093709Z
URL:https://www.michel-perrier.com/evenements/exposition-estivale-vieux-ly
 on-16-31-juillet-2025/
SUMMARY:Exposition estivale Vieux Lyon 16/31 Juillet 2025
DESCRIPTION:Au pied de LA TOUR ROSE - patrimoine architectural emblématiqu
 e du Vieux Lyon - une sélection de tableaux créés par l'artiste seront 
 exposés du 16 au 31 Juillet 2025 dans une galerie nichée au cœur de ce 
 site chargé d'histoire.\n\nMichel Perrier\, membre de l'Académie Lyonnai
 se de Peinture\, s 'intéresse au dessin depuis toujours. Ce passionné de
  musique et de cinéma exprime sa sensibilité artistique en apportant une
  touche originale à ses réalisations.\n\nIl puise son inspiration dans d
 es thèmes très variés\, révélant une recherche d’harmonie s’écha
 ppant du conventionnel. Au fil du temps\, il a eu l'opportunité d'explore
 r diverses techniques picturales en utilisant\, ensemble ou séparément\,
  l'encre\, l'aquarelle\, l'huile ou l'acrylique sur des supports toile ou 
 bois.\n\nPeintre figuratif\, avec des influences "néo-impressionnistes" o
 u "pointillistes" il n'hésite pas à mélanger différentes techniques da
 ns un chromatisme de couleurs fondues ou contrastées. Il restitue de man
 ière très personnelle la féminité\, sous des apparences uniques ou plu
 rielles\, mais aussi les voitures américaines ou autres véhicules « vi
 ntage » avec les particularités qui le caractérisent.
ATTACH;FMTTYPE=image/jpeg:https://www.michel-perrier.com/wp-content/upload
 s/photo-Tour-Rose-avec-timbre.jpg
LOCATION:Galerie de la Tour\, 16 Rue du Boeuf\, LYON \, 69005\, France
GEO:45.762598;4.826860899999929
X-APPLE-STRUCTURED-LOCATION;VALUE=URI;X-ADDRESS=16 Rue du Boeuf\, LYON \, 6
 9005\, France;X-APPLE-RADIUS=100;X-TITLE=Galerie de la Tour:geo:45.762598,
 4.826860899999929
END:VEVENT
BEGIN:VTIMEZONE
TZID:Europe/Paris
X-LIC-LOCATION:Europe/Paris
BEGIN:DAYLIGHT
DTSTART:20250330T030000
TZOFFSETFROM:+0100
TZOFFSETTO:+0200
TZNAME:CEST
END:DAYLIGHT
END:VTIMEZONE
END:VCALENDAR