BEGIN:VCALENDAR
VERSION:2.0
PRODID:-//wp-events-plugin.com//7.2.3.1//EN
TZID:Europe/Paris
X-WR-TIMEZONE:Europe/Paris
BEGIN:VEVENT
UID:66@michel-perrier.com
DTSTART;TZID=Europe/Paris:20250716T110000
DTEND;TZID=Europe/Paris:20250731T190000
DTSTAMP:20250624T171717Z
URL:https://www.michel-perrier.com/evenements/galerie-de-la-tour-vieux-lyo
 n-16-31-juillet/
SUMMARY:GALERIE DE LA TOUR - VIEUX LYON 16/31 Juillet
DESCRIPTION:[caption id="attachment_5578" align="alignleft" width="204"] Au
  pied de LA TOUR ROSE - lieu emblématique du Vieux Lyon - une sélection 
 de tableaux créés par Michel Perrier seront exposés du 16 au 31 Juillet
  2025.[/caption]\n\n
LOCATION:Galerie de la Tour\, 16 Rue du Boeuf\, LYON \, 69005\, France
GEO:45.762598;4.826860899999929
X-APPLE-STRUCTURED-LOCATION;VALUE=URI;X-ADDRESS=16 Rue du Boeuf\, LYON \, 6
 9005\, France;X-APPLE-RADIUS=100;X-TITLE=Galerie de la Tour:geo:45.762598,
 4.826860899999929
END:VEVENT
BEGIN:VTIMEZONE
TZID:Europe/Paris
X-LIC-LOCATION:Europe/Paris
BEGIN:DAYLIGHT
DTSTART:20250330T030000
TZOFFSETFROM:+0100
TZOFFSETTO:+0200
TZNAME:CEST
END:DAYLIGHT
END:VTIMEZONE
END:VCALENDAR