BEGIN:VCALENDAR
VERSION:2.0
PRODID:-//wp-events-plugin.com//7.2.3.1//EN
TZID:Europe/Paris
X-WR-TIMEZONE:Europe/Paris
BEGIN:VEVENT
UID:60@michel-perrier.com
DTSTART;TZID=Europe/Paris:20240413T130000
DTEND;TZID=Europe/Paris:20240421T190000
DTSTAMP:20240307T134637Z
URL:https://www.michel-perrier.com/evenements/salon-national-peinture-et-s
 culpture-lions-club-mont-dor-13-21-avril-2024/
SUMMARY:Salon National Peinture et Sculpture - LIONS CLUB Mont d'Or  13/21 
 Avril 2024
DESCRIPTION:Le 1er Salon National de Peinture et Sculpture est organisé pa
 r le Lions Club de Lyon Mont d'Or. Parmi la centaine d'artistes qui prése
 nteront leurs créations originales\, Michel Perrier exposera cinq de ses 
 oeuvres.\n\nCe Salon se déroulera du Samedi 13 Avril au Dimanche 21 Avril
  à la Salle de la Source sur la commune de 69450 SAINT CYR AU MONT D'OR\,
  dans l'Ouest lyonnais.\n\nL'entrée est libre de 13H à 19H\, avec une am
 plitude étendue de10H à 19H le dimanche.\n\n
ATTACH;FMTTYPE=image/jpeg:https://www.michel-perrier.com/wp-content/upload
 s/MP-Blason_Saint-Cyr-au-Mont-dOr-1.jpg
LOCATION:https://maps.app.goo.gl/LAjdJUwWJAg6tauT8
END:VEVENT
BEGIN:VTIMEZONE
TZID:Europe/Paris
X-LIC-LOCATION:Europe/Paris
BEGIN:DAYLIGHT
DTSTART:20240331T030000
TZOFFSETFROM:+0100
TZOFFSETTO:+0200
TZNAME:CEST
END:DAYLIGHT
END:VTIMEZONE
END:VCALENDAR