BEGIN:VCALENDAR
VERSION:2.0
PRODID:-//wp-events-plugin.com//7.2.3.1//EN
TZID:Europe/Paris
X-WR-TIMEZONE:Europe/Paris
BEGIN:VEVENT
UID:64@michel-perrier.com
DTSTART;TZID=Europe/Paris;VALUE=DATE:20241002
DTEND;TZID=Europe/Paris;VALUE=DATE:20241014
DTSTAMP:20240907T090539Z
URL:https://www.michel-perrier.com/evenements/tous-en-rond-orangerie-du-pa
 rc-de-la-tete-dor-69006-lyon-du-2-au-13-octobre-2024/
SUMMARY:TOUS EN ROND - Orangerie du Parc de la Tête d'Or 69006 LYON du 2 a
 u 13 Octobre 2024
DESCRIPTION:[caption id="attachment_4363" align="alignleft" width="300"] Av
 ec une toile circulaire de 100cm de diamètre\, quatre profils féminins e
 n technique pointillée symbolisent chaque saison avec ses couleurs de ré
 férence.[/caption]\n\n
LOCATION:Orangerie Parc de la Tête d'Or 69006 LYON\, boulevard des Belges\
 , LYON\, France\, 69006\, Auvergne Rhône-Alpes\, France
X-APPLE-STRUCTURED-LOCATION;VALUE=URI;X-ADDRESS=boulevard des Belges\, LYON
 \, France\, 69006\, Auvergne Rhône-Alpes\, France;X-APPLE-RADIUS=100;X-TI
 TLE=Orangerie Parc de la Tête d'Or 69006 LYON:geo:0,0
END:VEVENT
BEGIN:VTIMEZONE
TZID:Europe/Paris
X-LIC-LOCATION:Europe/Paris
BEGIN:DAYLIGHT
DTSTART:20240331T030000
TZOFFSETFROM:+0100
TZOFFSETTO:+0200
TZNAME:CEST
END:DAYLIGHT
END:VTIMEZONE
END:VCALENDAR